Workbook

Sheet Document Control
B8: ENERGY CARBON LOG
B9: STRAVIK Construction Group · Controlled Document
B11: Document No. | C11: STV-ENV-REG-007A
B12: Revision | C12: 00 (Initial Issue)
B13: Effective Date | C13: 2026-10-24
B14: Status | C14: Issued for review / pending approval
B15: Master List | C15: STV-GOV-REG-000
B17: Aligned with ISO 9001:2015 / ISO 14001:2015 / ISO 45001:2018 as applicable. No third-party certification is claimed.
B19: REVISION HISTORY
B20: Rev. | C20: Date | D20: Description | E20: Prepared By | F20: Approved By
B21: 00 | C21: 2026-10-24 | D21: Initial issue for STRAVIK Construction Group | E21: [PREPARED BY] | F21: Michael Gaya, President
B23: APPROVAL
B24: Role | C24: Name | D24: Title | E24: Signature | F24: Date
B25: Prepared By | C25: [PREPARED BY] | D25: [TITLE]
B26: Reviewed By | C26: [QUALITY / HSE MANAGER] | D26: [TITLE]
B27: Approved By | C27: Michael Gaya | D27: President
B29: BUILT STRONGER.
B30: 4521 PGA Blvd, Unit 509, Palm Beach Gardens, FL 33418 · 954-235-3229 · info@stravikgroup.com · www.stravikgroup.com
B31: Highlighted cells are placeholders to be completed. Printed copies are uncontrolled.

Sheet Energy & Carbon Log
A1: STRAVIK CONSTRUCTION SERVICES INC.
A2: ENERGY USE & CARBON EMISSION LOG
A3: Document Code: STV-ENV-REG-007A | Revision: 00 | Effective Date: 2026-10-24
A5: Date | B5: Project / Site | C5: Source Type | D5: Quantity (unit) | E5: Unit (auto) | F5: Emission Factor (kg CO2/unit) | G5: Emissions (tCO2e) | H5: Equipment / Activity | I5: Operator / Verifier | J5: Comments
E6: =VLOOKUP(C4,'Emission Factors'!A4:C7,2,FALSE) | F6: =VLOOKUP(C4,'Emission Factors'!A4:C7,3,FALSE) | G6: =D4*F4/1000
E7: =VLOOKUP(C5,'Emission Factors'!A4:C7,2,FALSE) | F7: =VLOOKUP(C5,'Emission Factors'!A4:C7,3,FALSE) | G7: =D5*F5/1000

Sheet Emission Factors
A1: STRAVIK CONSTRUCTION SERVICES INC.
A2: EMISSION FACTORS (EDITABLE)
A3: Document Code: STV-ENV-REG-007A | Revision: 00 | Effective Date: 2026-10-24
A5: Source Type | B5: Unit | C5: Emission Factor (kg CO2 per unit) | D5: Notes
A6: Diesel | B6: L | C6: 2.68 | D6: EPA default
A7: Gasoline | B7: L | C7: 2.31 | D7: EPA default
A8: Propane | B8: L | C8: 1.51 | D8: EPA default
A9: Electricity | B9: kWh | C9: 0.45 | D9: Florida grid avg (editable)

Sheet Monthly Summary
A1: STRAVIK CONSTRUCTION SERVICES INC.
A2: MONTHLY SUMMARY (AUTO)
A3: Document Code: STV-ENV-REG-007A | Revision: 00 | Effective Date: 2026-10-24
A5: Month (YYYY-MM) | B5: Diesel tCO2e | C5: Gasoline tCO2e | D5: Propane tCO2e | E5: Electricity tCO2e | F5: TOTAL tCO2e
A6: 2025-10 | B6: =SUMIFS('Energy & Carbon Log'!G4:G1000,'Energy & Carbon Log'!A4:A1000,">=2025-10-01",'Energy & Carbon Log'!A4:A1000,"<=2025-10-31",'Energy & Carbon Log'!C4:C1000,"Diesel") | C6: =SUMIFS('Energy & Carbon Log'!G4:G1000,'Energy & Carbon Log'!A4:A1000,">=2025-10-01",'Energy & Carbon Log'!A4:A1000,"<=2025-10-31",'Energy & Carbon Log'!C4:C1000,"Gasoline") | D6: =SUMIFS('Energy & Carbon Log'!G4:G1000,'Energy & Carbon Log'!A4:A1000,">=2025-10-01",'Energy & Carbon Log'!A4:A1000,"<=2025-10-31",'Energy & Carbon Log'!C4:C1000,"Propane") | E6: =SUMIFS('Energy & Carbon Log'!G4:G1000,'Energy & Carbon Log'!A4:A1000,">=2025-10-01",'Energy & Carbon Log'!A4:A1000,"<=2025-10-31",'Energy & Carbon Log'!C4:C1000,"Electricity") | F6: =SUM(B4:E4)
A7: 2025-11 | B7: =SUMIFS('Energy & Carbon Log'!G4:G1000,'Energy & Carbon Log'!A4:A1000,">=2025-11-01",'Energy & Carbon Log'!A4:A1000,"<=2025-11-30",'Energy & Carbon Log'!C4:C1000,"Diesel") | C7: =SUMIFS('Energy & Carbon Log'!G4:G1000,'Energy & Carbon Log'!A4:A1000,">=2025-11-01",'Energy & Carbon Log'!A4:A1000,"<=2025-11-30",'Energy & Carbon Log'!C4:C1000,"Gasoline") | D7: =SUMIFS('Energy & Carbon Log'!G4:G1000,'Energy & Carbon Log'!A4:A1000,">=2025-11-01",'Energy & Carbon Log'!A4:A1000,"<=2025-11-30",'Energy & Carbon Log'!C4:C1000,"Propane") | E7: =SUMIFS('Energy & Carbon Log'!G4:G1000,'Energy & Carbon Log'!A4:A1000,">=2025-11-01",'Energy & Carbon Log'!A4:A1000,"<=2025-11-30",'Energy & Carbon Log'!C4:C1000,"Electricity") | F7: =SUM(B5:E5)

Sheet KPI Tracker
A1: STRAVIK CONSTRUCTION SERVICES INC.
A2: KPI TRACKER
A3: Document Code: STV-ENV-REG-007A | Revision: 00 | Effective Date: 2026-10-24
A5: Month | B5: Total tCO2e | C5: Built Area (m²) | D5: Revenue ($M) | E5: tCO2e per m² | F5: tCO2e per $M | G5: Target tCO2e/m² | H5: Target Reduction (%)
B6: ='Monthly Summary'!F4 | E6: =IF(C4=0,0,B4/C4) | F6: =IF(D4=0,0,B4/D4)
B7: ='Monthly Summary'!F5 | E7: =IF(C5=0,0,B5/C5) | F7: =IF(D5=0,0,B5/D5)

Sheet Dashboard
A1: STRAVIK CONSTRUCTION SERVICES INC.
A2: ENERGY & CARBON DASHBOARD
A3: Document Code: STV-ENV-REG-007A | Revision: 00 | Effective Date: 2026-10-24
A6: KPI | B6: Value
A7: Total tCO2e (selected months) | B7: =SUM('Monthly Summary'!F4:F5)
A8: Avg tCO2e per m² | B8: =AVERAGE('KPI Tracker'!E4:E5)
A9: Avg tCO2e per $M | B9: =AVERAGE('KPI Tracker'!F4:F5)
A20: Diesel | B20: ='Monthly Summary'!B5
A21: Gasoline | B21: ='Monthly Summary'!C5
A22: Propane | B22: ='Monthly Summary'!D5
A23: Electricity | B23: ='Monthly Summary'!E5
